BEGIN:VCALENDAR
VERSION:2.0
PRODID:SchoolNow
CALSCALE:GREGORIAN
BEGIN:VEVENT
UID:0908901e-25cf-11ea-9499-22000a97d21c
DTSTAMP:20200508T003247Z
SUMMARY:Private Rental
LOCATION:Activities Center
URL;VALUE=URI:https://www.wildernesslakecdd.org/calendar/2165738/private-re
 ntal
DTSTART:20190917T200000Z
DTEND:20190918T010000Z
END:VEVENT
END:VCALENDAR
