BEGIN:VCALENDAR
VERSION:2.0
PRODID:SchoolNow
CALSCALE:GREGORIAN
BEGIN:VEVENT
UID:0908752a-25cf-11ea-a1a7-22000a97d21c
DTSTAMP:20200508T003247Z
SUMMARY:Kids Art Class
LOCATION:Activities Center
URL;VALUE=URI:https://www.wildernesslakecdd.org/calendar/2165737/kids-art-c
 lass
DTSTART:20190921T143000Z
DTEND:20190921T173000Z
END:VEVENT
END:VCALENDAR
