BEGIN:VCALENDAR
VERSION:2.0
PRODID:SchoolNow
CALSCALE:GREGORIAN
BEGIN:VEVENT
UID:09085e64-25cf-11ea-9b00-22000a97d21c
DTSTAMP:20200508T003247Z
SUMMARY:Trivia Night
LOCATION:Activities Center
URL;VALUE=URI:https://www.wildernesslakecdd.org/calendar/2165736/trivia-nig
 ht
DTSTART:20190921T223000Z
DTEND:20190922T010000Z
ATTACH;FILENAME=Trivia Night flyer.jpg;FMTTYPE=image/jpeg:https://drive.goo
 gle.com/a/wlpcdd.org/file/d/1tlxowMsMhwv8hPDiBhz_pzfg8XlJYDJo/view?usp=dri
 ve_web
END:VEVENT
END:VCALENDAR
