BEGIN:VCALENDAR
VERSION:2.0
PRODID:SchoolNow
CALSCALE:GREGORIAN
BEGIN:VEVENT
UID:09084776-25cf-11ea-81b4-22000a97d21c
DTSTAMP:20200508T003247Z
SUMMARY:Spaghetti Dinner
LOCATION:Activities Center
URL;VALUE=URI:https://www.wildernesslakecdd.org/calendar/2165735/spaghetti-
 dinner
DTSTART:20190920T210000Z
DTEND:20190920T233000Z
ATTACH;FILENAME=Spaghetti Dinner 9 2019 (1).jpg;FMTTYPE=image/jpeg:https://
 drive.google.com/a/wlpcdd.org/file/d/1r9JCm3tUmvyPw9Z1cXoLwu55OOHaCKz5/vie
 w?usp=drive_web
END:VEVENT
END:VCALENDAR
