BEGIN:VCALENDAR
VERSION:2.0
PRODID:SchoolNow
CALSCALE:GREGORIAN
BEGIN:VEVENT
UID:0906effc-25cf-11ea-b549-22000a97d21c
DTSTAMP:20200508T003247Z
SUMMARY:Private Rental
LOCATION:Activities Center
URL;VALUE=URI:https://www.wildernesslakecdd.org/calendar/2165734/private-re
 ntal
DTSTART:20190922T160000Z
DTEND:20190922T210000Z
END:VEVENT
END:VCALENDAR
