BEGIN:VCALENDAR
VERSION:2.0
PRODID:SchoolNow
CALSCALE:GREGORIAN
BEGIN:VEVENT
UID:0906d95e-25cf-11ea-8373-22000a97d21c
DTSTAMP:20200508T003247Z
SUMMARY:Octoberfest
LOCATION:Activities Center
URL;VALUE=URI:https://www.wildernesslakecdd.org/calendar/2165733/octoberfes
 t
DTSTART:20190928T223000Z
DTEND:20190929T003000Z
END:VEVENT
END:VCALENDAR
