BEGIN:VCALENDAR
VERSION:2.0
PRODID:SchoolNow
CALSCALE:GREGORIAN
BEGIN:VEVENT
UID:0906c20c-25cf-11ea-a5da-22000a97d21c
DTSTAMP:20200508T003247Z
SUMMARY:Kids Art Class
LOCATION:Activities Center
URL;VALUE=URI:https://www.wildernesslakecdd.org/calendar/2165732/kids-art-c
 lass
DTSTART:20190929T170000Z
DTEND:20190929T200000Z
END:VEVENT
END:VCALENDAR
