BEGIN:VCALENDAR
VERSION:2.0
PRODID:SchoolNow
CALSCALE:GREGORIAN
BEGIN:VEVENT
UID:0906ab5a-25cf-11ea-953a-22000a97d21c
DTSTAMP:20200508T003247Z
SUMMARY:Adult H.H. Costume
LOCATION:Activities Center
URL;VALUE=URI:https://www.wildernesslakecdd.org/calendar/2165731/adult-h-h-
 costume
DTSTART:20191018T223000Z
DTEND:20191019T003000Z
END:VEVENT
END:VCALENDAR
