BEGIN:VCALENDAR
VERSION:2.0
PRODID:SchoolNow
CALSCALE:GREGORIAN
BEGIN:VEVENT
UID:09069110-25cf-11ea-8a48-22000a97d21c
DTSTAMP:20200508T003247Z
SUMMARY:Kids Art Class
LOCATION:Activities Center
URL;VALUE=URI:https://www.wildernesslakecdd.org/calendar/2165730/kids-art-c
 lass
DTSTART:20191020T170000Z
DTEND:20191020T200000Z
END:VEVENT
END:VCALENDAR
