BEGIN:VCALENDAR
VERSION:2.0
PRODID:SchoolNow
CALSCALE:GREGORIAN
BEGIN:VEVENT
UID:09067964-25cf-11ea-81fc-22000a97d21c
DTSTAMP:20200508T003247Z
SUMMARY:No Rentals
URL;VALUE=URI:https://www.wildernesslakecdd.org/calendar/2165729/no-rentals
DTSTART:20191025T130000Z
DTEND:20191026T010000Z
END:VEVENT
END:VCALENDAR
