BEGIN:VCALENDAR
VERSION:2.0
PRODID:SchoolNow
CALSCALE:GREGORIAN
BEGIN:VEVENT
UID:09066190-25cf-11ea-9435-22000a97d21c
DTSTAMP:20200508T003247Z
SUMMARY:No Rentals
URL;VALUE=URI:https://www.wildernesslakecdd.org/calendar/2165728/no-rentals
DTSTART:20191026T130000Z
DTEND:20191027T010000Z
END:VEVENT
END:VCALENDAR
