BEGIN:VCALENDAR
VERSION:2.0
PRODID:SchoolNow
CALSCALE:GREGORIAN
BEGIN:VEVENT
UID:09063c92-25cf-11ea-b7bb-22000a97d21c
DTSTAMP:20200508T003247Z
SUMMARY:Kids Art Class
LOCATION:Activities Center
URL;VALUE=URI:https://www.wildernesslakecdd.org/calendar/2165727/kids-art-c
 lass
DTSTART:20191102T143000Z
DTEND:20191102T173000Z
END:VEVENT
END:VCALENDAR
