BEGIN:VCALENDAR
VERSION:2.0
PRODID:SchoolNow
CALSCALE:GREGORIAN
BEGIN:VEVENT
UID:09060e2a-25cf-11ea-bce6-22000a97d21c
DTSTAMP:20200508T003247Z
SUMMARY:HOA Meeting
LOCATION:Activities Center
URL;VALUE=URI:https://www.wildernesslakecdd.org/calendar/2165725/hoa-meetin
 g
DTSTART:20190905T223000Z
DTEND:20190906T003000Z
END:VEVENT
END:VCALENDAR
