BEGIN:VCALENDAR
VERSION:2.0
PRODID:SchoolNow
CALSCALE:GREGORIAN
BEGIN:VEVENT
UID:0905f764-25cf-11ea-b7df-22000a97d21c
DTSTAMP:20200508T003247Z
SUMMARY:Bingo
LOCATION:Activities Center
URL;VALUE=URI:https://www.wildernesslakecdd.org/calendar/2165724/bingo
DTSTART:20190906T210000Z
DTEND:20190907T010000Z
END:VEVENT
END:VCALENDAR
