BEGIN:VCALENDAR
VERSION:2.0
PRODID:SchoolNow
CALSCALE:GREGORIAN
BEGIN:VEVENT
UID:0905df36-25cf-11ea-9cea-22000a97d21c
DTSTAMP:20200508T003247Z
SUMMARY:Labor Day BBQ
URL;VALUE=URI:https://www.wildernesslakecdd.org/calendar/2165723/labor-day-
 bbq
DTSTART:20190907T160000Z
DTEND:20190907T180000Z
ATTACH;FILENAME=Labor Day Save the Date.jpg;FMTTYPE=image/jpeg:https://driv
 e.google.com/a/wlpcdd.org/file/d/1n8NhwETxdcdWFVGR0tsLNxUkafCE4evm/view?us
 p=drive_web
END:VEVENT
END:VCALENDAR
