BEGIN:VCALENDAR
VERSION:2.0
PRODID:SchoolNow
CALSCALE:GREGORIAN
BEGIN:VEVENT
UID:09045cf6-25cf-11ea-961f-22000a97d21c
DTSTAMP:20200508T003247Z
SUMMARY:Private Rental
LOCATION:Nature Center
URL;VALUE=URI:https://www.wildernesslakecdd.org/calendar/2165720/private-re
 ntal
DTSTART:20190915T180000Z
DTEND:20190915T230000Z
END:VEVENT
END:VCALENDAR
