BEGIN:VCALENDAR
VERSION:2.0
PRODID:SchoolNow
CALSCALE:GREGORIAN
BEGIN:VEVENT
UID:09043db6-25cf-11ea-abb6-22000a97d21c
DTSTAMP:20200508T003247Z
SUMMARY:Community Garage Sale
URL;VALUE=URI:https://www.wildernesslakecdd.org/calendar/2165719/community-
 garage-sale
DTSTART:20191005T120000Z
DTEND:20191005T190000Z
ATTACH;FILENAME=WLP Garage Registration.doc;FMTTYPE=application/msword:http
 s://drive.google.com/a/wlpcdd.org/file/d/1zKoJDAGeZ_QaFZY1ZG9cOBJ1NHhF7gnW
 /view?usp=drive_web
END:VEVENT
END:VCALENDAR
