BEGIN:VCALENDAR
VERSION:2.0
PRODID:SchoolNow
CALSCALE:GREGORIAN
BEGIN:VEVENT
UID:09042218-25cf-11ea-9668-22000a97d21c
DTSTAMP:20200508T003246Z
SUMMARY:Private Rental
LOCATION:Activities Center
URL;VALUE=URI:https://www.wildernesslakecdd.org/calendar/2165718/private-re
 ntal
DTSTART:20191006T160000Z
DTEND:20191006T210000Z
END:VEVENT
END:VCALENDAR
