BEGIN:VCALENDAR
VERSION:2.0
PRODID:SchoolNow
CALSCALE:GREGORIAN
BEGIN:VEVENT
UID:0903defc-25cf-11ea-82f8-22000a97d21c
DTSTAMP:20200508T003246Z
SUMMARY:Kid Friendly Haunted House
LOCATION:Nature Center
URL;VALUE=URI:https://www.wildernesslakecdd.org/calendar/2165715/kid-friend
 ly-haunted-house
DTSTART:20191026T210000Z
DTEND:20191026T220000Z
ATTACH;FILENAME=haunted house flyer.jpg;FMTTYPE=image/jpeg:https://drive.go
 ogle.com/a/wlpcdd.org/file/d/18zcfm9ILf6pvpx4muZk6mxAUmBmQR8-B/view?usp=dr
 ive_web
END:VEVENT
END:VCALENDAR
