BEGIN:VCALENDAR
VERSION:2.0
PRODID:SchoolNow
CALSCALE:GREGORIAN
BEGIN:VEVENT
UID:0903c8a4-25cf-11ea-aea3-22000a97d21c
DTSTAMP:20200508T003246Z
SUMMARY:Haunted House
LOCATION:Nature Center
URL;VALUE=URI:https://www.wildernesslakecdd.org/calendar/2165714/haunted-ho
 use
DTSTART:20191025T230000Z
DTEND:20191026T003000Z
ATTACH;FILENAME=haunted house flyer.jpg;FMTTYPE=image/jpeg:https://drive.go
 ogle.com/a/wlpcdd.org/file/d/18zcfm9ILf6pvpx4muZk6mxAUmBmQR8-B/view?usp=dr
 ive_web
END:VEVENT
END:VCALENDAR
