BEGIN:VCALENDAR
VERSION:2.0
PRODID:SchoolNow
CALSCALE:GREGORIAN
BEGIN:VEVENT
UID:0903b1ac-25cf-11ea-ba88-22000a97d21c
DTSTAMP:20200508T003246Z
SUMMARY:Private Event
LOCATION:Activities Center
URL;VALUE=URI:https://www.wildernesslakecdd.org/calendar/2165713/private-ev
 ent
DTSTART:20191027T170000Z
DTEND:20191027T220000Z
END:VEVENT
END:VCALENDAR
