BEGIN:VCALENDAR
VERSION:2.0
PRODID:SchoolNow
CALSCALE:GREGORIAN
BEGIN:VEVENT
UID:09039b68-25cf-11ea-8408-22000a97d21c
DTSTAMP:20200508T003246Z
SUMMARY:Kids Parade
LOCATION:Lodge
URL;VALUE=URI:https://www.wildernesslakecdd.org/calendar/2165712/kids-parad
 e
DTSTART:20191031T213000Z
DTEND:20191031T223000Z
ATTACH;FILENAME=Kid's costume parade.jpg;FMTTYPE=image/jpeg:https://drive.g
 oogle.com/a/wlpcdd.org/file/d/1crWN4foWqYh7DKYBPSyROB2_0_qjbBk0/view?usp=d
 rive_web
END:VEVENT
END:VCALENDAR
