BEGIN:VCALENDAR
VERSION:2.0
PRODID:SchoolNow
CALSCALE:GREGORIAN
BEGIN:VEVENT
UID:0903852e-25cf-11ea-9f5f-22000a97d21c
DTSTAMP:20200508T003246Z
SUMMARY:Private Party
LOCATION:Activities Center
URL;VALUE=URI:https://www.wildernesslakecdd.org/calendar/2165711/private-pa
 rty
DTSTART:20191102T190000Z
DTEND:20191103T000000Z
END:VEVENT
END:VCALENDAR
