BEGIN:VCALENDAR
VERSION:2.0
PRODID:SchoolNow
CALSCALE:GREGORIAN
BEGIN:VEVENT
UID:09036eea-25cf-11ea-8488-22000a97d21c
DTSTAMP:20200508T003246Z
SUMMARY:Private Party
LOCATION:Activities Center
URL;VALUE=URI:https://www.wildernesslakecdd.org/calendar/2165710/private-pa
 rty
DTSTART:20191103T210000Z
DTEND:20191104T020000Z
END:VEVENT
END:VCALENDAR
