BEGIN:VCALENDAR
VERSION:2.0
PRODID:SchoolNow
CALSCALE:GREGORIAN
BEGIN:VEVENT
UID:09035824-25cf-11ea-a319-22000a97d21c
DTSTAMP:20200508T003246Z
SUMMARY:Kids Art Class
LOCATION:Activities Center
URL;VALUE=URI:https://www.wildernesslakecdd.org/calendar/2165709/kids-art-c
 lass
DTSTART:20191117T180000Z
DTEND:20191117T210000Z
END:VEVENT
END:VCALENDAR
