BEGIN:VCALENDAR
VERSION:2.0
PRODID:SchoolNow
CALSCALE:GREGORIAN
BEGIN:VEVENT
UID:09020398-25cf-11ea-8f31-22000a97d21c
DTSTAMP:20200508T003246Z
SUMMARY:Fining Meeting
LOCATION:Theater
URL;VALUE=URI:https://www.wildernesslakecdd.org/calendar/2165708/fining-mee
 ting
DTSTART:20191121T003000Z
DTEND:20191121T013000Z
END:VEVENT
END:VCALENDAR
