BEGIN:VCALENDAR
VERSION:2.0
PRODID:SchoolNow
CALSCALE:GREGORIAN
BEGIN:VEVENT
UID:0901ed5e-25cf-11ea-a4b2-22000a97d21c
DTSTAMP:20200508T003246Z
SUMMARY:Private Event
LOCATION:Activities Center
URL;VALUE=URI:https://www.wildernesslakecdd.org/calendar/2165707/private-ev
 ent
DTSTART:20191123T190000Z
DTEND:20191124T000000Z
END:VEVENT
END:VCALENDAR
