BEGIN:VCALENDAR
VERSION:2.0
PRODID:SchoolNow
CALSCALE:GREGORIAN
BEGIN:VEVENT
UID:0901d652-25cf-11ea-b15d-22000a97d21c
DTSTAMP:20200508T003246Z
SUMMARY:Santa's Arrival
LOCATION:Activities Center & Nature Center
URL;VALUE=URI:https://www.wildernesslakecdd.org/calendar/2165706/santas-arr
 ival
DTSTART:20191207T210000Z
DTEND:20191208T000000Z
END:VEVENT
END:VCALENDAR
