BEGIN:VCALENDAR
VERSION:2.0
PRODID:SchoolNow
CALSCALE:GREGORIAN
BEGIN:VEVENT
UID:0901c018-25cf-11ea-b6b7-22000a97d21c
DTSTAMP:20200508T003246Z
SUMMARY:Private Event
LOCATION:Activities Center
URL;VALUE=URI:https://www.wildernesslakecdd.org/calendar/2165705/private-ev
 ent
DTSTART:20191214T220000Z
DTEND:20191215T030000Z
END:VEVENT
END:VCALENDAR
