BEGIN:VCALENDAR
VERSION:2.0
PRODID:SchoolNow
CALSCALE:GREGORIAN
BEGIN:VEVENT
UID:0901a5ba-25cf-11ea-a079-22000a97d21c
DTSTAMP:20200508T003246Z
SUMMARY:Private Event
LOCATION:Activities Center
URL;VALUE=URI:https://www.wildernesslakecdd.org/calendar/2165704/private-ev
 ent
DTSTART:20191215T170000Z
DTEND:20191215T220000Z
END:VEVENT
END:VCALENDAR
