BEGIN:VCALENDAR
VERSION:2.0
PRODID:SchoolNow
CALSCALE:GREGORIAN
BEGIN:VEVENT
UID:0901793c-25cf-11ea-8b69-22000a97d21c
DTSTAMP:20200508T003246Z
SUMMARY:CDD Meeting
LOCATION:Activities Center
URL;VALUE=URI:https://www.wildernesslakecdd.org/calendar/2165702/cdd-meetin
 g
DTSTART:20191002T133000Z
DTEND:20191002T163000Z
END:VEVENT
END:VCALENDAR
