BEGIN:VCALENDAR
VERSION:2.0
PRODID:SchoolNow
CALSCALE:GREGORIAN
BEGIN:VEVENT
UID:090162c6-25cf-11ea-9f1c-22000a97d21c
DTSTAMP:20200508T003246Z
SUMMARY:Private Rental
LOCATION:Activities Center
URL;VALUE=URI:https://www.wildernesslakecdd.org/calendar/2165701/private-re
 ntal
DTSTART:20191004T200000Z
DTEND:20191005T010000Z
END:VEVENT
END:VCALENDAR
