BEGIN:VCALENDAR
VERSION:2.0
PRODID:SchoolNow
CALSCALE:GREGORIAN
BEGIN:VEVENT
UID:09014c82-25cf-11ea-b7bb-22000a97d21c
DTSTAMP:20200508T003246Z
SUMMARY:Private Rental
LOCATION:Nature Center
URL;VALUE=URI:https://www.wildernesslakecdd.org/calendar/2165700/private-re
 ntal
DTSTART:20191005T190000Z
DTEND:20191005T230000Z
END:VEVENT
END:VCALENDAR
