BEGIN:VCALENDAR
VERSION:2.0
PRODID:SchoolNow
CALSCALE:GREGORIAN
BEGIN:VEVENT
UID:090135b2-25cf-11ea-933c-22000a97d21c
DTSTAMP:20200508T003246Z
SUMMARY:Private Rental
LOCATION:Nature Center
URL;VALUE=URI:https://www.wildernesslakecdd.org/calendar/2165699/private-re
 ntal
DTSTART:20191013T160000Z
DTEND:20191013T210000Z
END:VEVENT
END:VCALENDAR
