BEGIN:VCALENDAR
VERSION:2.0
PRODID:SchoolNow
CALSCALE:GREGORIAN
BEGIN:VEVENT
UID:090106c8-25cf-11ea-9a45-22000a97d21c
DTSTAMP:20200508T003245Z
SUMMARY:Private Rental
LOCATION:Activites Center & Nature Center
URL;VALUE=URI:https://www.wildernesslakecdd.org/calendar/2165697/private-re
 ntal
DTSTART:20191208T210000Z
DTEND:20191209T020000Z
END:VEVENT
END:VCALENDAR
