BEGIN:VCALENDAR
VERSION:2.0
PRODID:SchoolNow
CALSCALE:GREGORIAN
BEGIN:VEVENT
UID:0900f084-25cf-11ea-bd99-22000a97d21c
DTSTAMP:20200508T003245Z
SUMMARY:No HOA meeting scheduled for this month
URL;VALUE=URI:https://www.wildernesslakecdd.org/calendar/2165696/no-hoa-mee
 ting-scheduled-for-this-month
DTSTART:20191201T050000Z
DTEND:20191231T060000Z
END:VEVENT
END:VCALENDAR
