BEGIN:VCALENDAR
VERSION:2.0
PRODID:SchoolNow
CALSCALE:GREGORIAN
BEGIN:VEVENT
UID:0900da40-25cf-11ea-8824-22000a97d21c
DTSTAMP:20200508T003245Z
SUMMARY:CDD Meeting
LOCATION:Activities Center
URL;VALUE=URI:https://www.wildernesslakecdd.org/calendar/2165695/cdd-meetin
 g
DTSTART:20191106T233000Z
DTEND:20191107T030000Z
END:VEVENT
END:VCALENDAR
