BEGIN:VCALENDAR
VERSION:2.0
PRODID:SchoolNow
CALSCALE:GREGORIAN
BEGIN:VEVENT
UID:0900ac82-25cf-11ea-b7a4-22000a97d21c
DTSTAMP:20200508T003245Z
SUMMARY:CDD Meeting
URL;VALUE=URI:https://www.wildernesslakecdd.org/calendar/2165693/cdd-meetin
 g
DTSTART:20200108T143000Z
DTEND:20200108T180000Z
END:VEVENT
END:VCALENDAR
