BEGIN:VCALENDAR
VERSION:2.0
PRODID:SchoolNow
CALSCALE:GREGORIAN
BEGIN:VEVENT
UID:09007f0a-25cf-11ea-9a81-22000a97d21c
DTSTAMP:20200508T003245Z
SUMMARY:CDD Meeting
URL;VALUE=URI:https://www.wildernesslakecdd.org/calendar/2165691/cdd-meetin
 g
DTSTART:20200304T143000Z
DTEND:20200304T180000Z
END:VEVENT
END:VCALENDAR
