BEGIN:VCALENDAR
VERSION:2.0
PRODID:SchoolNow
CALSCALE:GREGORIAN
BEGIN:VEVENT
UID:09006510-25cf-11ea-88ed-22000a97d21c
DTSTAMP:20200508T003245Z
SUMMARY:CDD Meeting
URL;VALUE=URI:https://www.wildernesslakecdd.org/calendar/2165690/cdd-meetin
 g
DTSTART:20200401T133000Z
DTEND:20200401T170000Z
END:VEVENT
END:VCALENDAR
