BEGIN:VCALENDAR
VERSION:2.0
PRODID:SchoolNow
CALSCALE:GREGORIAN
BEGIN:VEVENT
UID:09004e5e-25cf-11ea-a8ba-22000a97d21c
DTSTAMP:20200508T003245Z
SUMMARY:CDD Meeting
URL;VALUE=URI:https://www.wildernesslakecdd.org/calendar/2165689/cdd-meetin
 g
DTSTART:20200506T223000Z
DTEND:20200507T020000Z
END:VEVENT
END:VCALENDAR
