BEGIN:VCALENDAR
VERSION:2.0
PRODID:SchoolNow
CALSCALE:GREGORIAN
BEGIN:VEVENT
UID:08fee258-25cf-11ea-a623-22000a97d21c
DTSTAMP:20200623T210737Z
SUMMARY:CDD Board Meeting
LOCATION:Zoom Meeting ID: 932 5621 3506 +1 929 205 6099 US
URL;VALUE=URI:https://www.wildernesslakecdd.org/calendar/2165687/cdd-meetin
 g
DTSTART:20200701T133000Z
DTEND:20200701T170000Z
ATTACH;FILENAME=2020-07-01 - Preserve at Wilderness Lake - Final Agenda.pdf
 ;FMTTYPE=application/pdf:https://campussuite-storage.s3.amazonaws.com/prod
 /1558874/21caec5e-ea98-11e9-8581-0a20d2c7fac4/2118679/844256c4-b595-11ea-8
 787-0a3da774d68b/file/2020-07-01 - Preserve at Wilderness Lake - Final Age
 nda.pdf
END:VEVENT
END:VCALENDAR
