BEGIN:VCALENDAR
VERSION:2.0
PRODID:SchoolNow
CALSCALE:GREGORIAN
BEGIN:VEVENT
UID:08fecb60-25cf-11ea-ae22-22000a97d21c
DTSTAMP:20200508T003245Z
SUMMARY:CDD Meeting
URL;VALUE=URI:https://www.wildernesslakecdd.org/calendar/2165686/cdd-meetin
 g
DTSTART:20200805T223000Z
DTEND:20200806T020000Z
END:VEVENT
END:VCALENDAR
