BEGIN:VCALENDAR
VERSION:2.0
PRODID:SchoolNow
CALSCALE:GREGORIAN
BEGIN:VEVENT
UID:08fe9ef6-25cf-11ea-bb96-22000a97d21c
DTSTAMP:20200508T003245Z
SUMMARY:ARC Meeting
LOCATION:Lodge
URL;VALUE=URI:https://www.wildernesslakecdd.org/calendar/2165684/arc-meetin
 g
DTSTART:20190923T223000Z
DTEND:20190923T233000Z
END:VEVENT
END:VCALENDAR
