BEGIN:VCALENDAR
VERSION:2.0
PRODID:SchoolNow
CALSCALE:GREGORIAN
BEGIN:VEVENT
UID:08fe88da-25cf-11ea-8875-22000a97d21c
DTSTAMP:20200508T003245Z
SUMMARY:ARC Meeting
LOCATION:Lodge
URL;VALUE=URI:https://www.wildernesslakecdd.org/calendar/2165683/arc-meetin
 g
DTSTART:20191007T223000Z
DTEND:20191007T233000Z
END:VEVENT
END:VCALENDAR
