BEGIN:VCALENDAR
VERSION:2.0
PRODID:SchoolNow
CALSCALE:GREGORIAN
BEGIN:VEVENT
UID:08fe7246-25cf-11ea-9082-22000a97d21c
DTSTAMP:20200508T003245Z
SUMMARY:Private Rental
LOCATION:Activities Center
URL;VALUE=URI:https://www.wildernesslakecdd.org/calendar/2165682/private-re
 ntal
DTSTART:20190915T160000Z
DTEND:20190915T210000Z
END:VEVENT
END:VCALENDAR
