BEGIN:VCALENDAR
VERSION:2.0
PRODID:SchoolNow
CALSCALE:GREGORIAN
BEGIN:VEVENT
UID:08fe5bda-25cf-11ea-a25f-22000a97d21c
DTSTAMP:20200508T003245Z
SUMMARY:Resident Bingo
LOCATION:Activities Center
URL;VALUE=URI:https://www.wildernesslakecdd.org/calendar/2165681/resident-b
 ingo
DTSTART:20191101T200000Z
DTEND:20191102T010000Z
END:VEVENT
END:VCALENDAR
