BEGIN:VCALENDAR
VERSION:2.0
PRODID:SchoolNow
CALSCALE:GREGORIAN
BEGIN:VEVENT
UID:08fe44a6-25cf-11ea-8791-22000a97d21c
DTSTAMP:20200508T003245Z
SUMMARY:Private Rental
LOCATION:Nature Center
URL;VALUE=URI:https://www.wildernesslakecdd.org/calendar/2165680/private-re
 ntal
DTSTART:20191215T170000Z
DTEND:20191215T220000Z
END:VEVENT
END:VCALENDAR
