BEGIN:VCALENDAR
VERSION:2.0
PRODID:SchoolNow
CALSCALE:GREGORIAN
BEGIN:VEVENT
UID:08fe2da4-25cf-11ea-babc-22000a97d21c
DTSTAMP:20200508T003245Z
SUMMARY:Breakfast with Santa
LOCATION:Activities Center
URL;VALUE=URI:https://www.wildernesslakecdd.org/calendar/2165679/breakfast-
 with-santa
DTSTART:20191221T150000Z
DTEND:20191221T180000Z
END:VEVENT
END:VCALENDAR
