BEGIN:VCALENDAR
VERSION:2.0
PRODID:SchoolNow
CALSCALE:GREGORIAN
BEGIN:VEVENT
UID:08fe171a-25cf-11ea-a1e1-22000a97d21c
DTSTAMP:20200508T003244Z
SUMMARY:Private Rental
LOCATION:Activities Center
URL;VALUE=URI:https://www.wildernesslakecdd.org/calendar/2165678/private-re
 ntal
DTSTART:20191005T163000Z
DTEND:20191005T213000Z
END:VEVENT
END:VCALENDAR
